BEGIN:VCALENDAR
VERSION:2.0
PRODID:-//Zavod Pogreb ni tabu - ECPv6.15.18//NONSGML v1.0//EN
CALSCALE:GREGORIAN
METHOD:PUBLISH
X-ORIGINAL-URL:https://www.pogreb-ni-tabu.si
X-WR-CALDESC:Events for Zavod Pogreb ni tabu
REFRESH-INTERVAL;VALUE=DURATION:PT1H
X-Robots-Tag:noindex
X-PUBLISHED-TTL:PT1H
BEGIN:VTIMEZONE
TZID:Europe/Helsinki
BEGIN:DAYLIGHT
TZOFFSETFROM:+0200
TZOFFSETTO:+0300
TZNAME:EEST
DTSTART:20180325T010000
END:DAYLIGHT
BEGIN:STANDARD
TZOFFSETFROM:+0300
TZOFFSETTO:+0200
TZNAME:EET
DTSTART:20181028T010000
END:STANDARD
BEGIN:DAYLIGHT
TZOFFSETFROM:+0200
TZOFFSETTO:+0300
TZNAME:EEST
DTSTART:20190331T010000
END:DAYLIGHT
BEGIN:STANDARD
TZOFFSETFROM:+0300
TZOFFSETTO:+0200
TZNAME:EET
DTSTART:20191027T010000
END:STANDARD
BEGIN:DAYLIGHT
TZOFFSETFROM:+0200
TZOFFSETTO:+0300
TZNAME:EEST
DTSTART:20200329T010000
END:DAYLIGHT
BEGIN:STANDARD
TZOFFSETFROM:+0300
TZOFFSETTO:+0200
TZNAME:EET
DTSTART:20201025T010000
END:STANDARD
END:VTIMEZONE
BEGIN:VEVENT
DTSTART;TZID=Europe/Helsinki:20190319T133000
DTEND;TZID=Europe/Helsinki:20190319T153000
DTSTAMP:20260425T172024
CREATED:20190308T125006Z
LAST-MODIFIED:20190308T125006Z
UID:7741-1553002200-1553009400@www.pogreb-ni-tabu.si
SUMMARY:Sočutno mesto
DESCRIPTION:Svetovanje in nudenje ustrezne podpore bolnikom in njihovim svojcem za lažje soočanje z neozdravljivo boleznijo in pomoč pri načrtovanju nadaljnje oskrbe. \nDodatne informacije: Tamara Zemlič Radović\, 02/ 25 25 570\, maribor@hospic.si.
URL:https://www.pogreb-ni-tabu.si/dogodek/socutno-mesto-25/
LOCATION:UKC Maribor\, Oddelek za onkologijo\, Ljubljanska ulica 5\, Maribor
ATTACH;FMTTYPE=image/jpeg:https://www.pogreb-ni-tabu.si/wp-content/uploads/2019/03/3068-e1552049143464.jpg
ORGANIZER;CN="DRU%C5%A0TVO HOSPIC":MAILTO:info@hospic.si
END:VEVENT
BEGIN:VEVENT
DTSTART;TZID=Europe/Helsinki:20190319T080000
DTEND;TZID=Europe/Helsinki:20190319T170000
DTSTAMP:20260425T172024
CREATED:20190308T130842Z
LAST-MODIFIED:20190308T130842Z
UID:7760-1552982400-1553014800@www.pogreb-ni-tabu.si
SUMMARY:Odprta skupina za žalujoče
DESCRIPTION:Brezplačna pogovorna skupina namenjena vsem žalujočim\, ne glede na pretečeni čas po izgubi bližnjega. \nPredhodne najave in dodatne informacije: Martina Košar\, 051/ 418 446\, zalovanje.odraslih@hospic.si.
URL:https://www.pogreb-ni-tabu.si/dogodek/odprta-skupina-za-zalujoce-7/
LOCATION:Kocenova ulica 4\, Kocenova ulica 4\, Celje
ATTACH;FMTTYPE=image/jpeg:https://www.pogreb-ni-tabu.si/wp-content/uploads/2017/01/relax-1276639_1920-e1542025291917.jpg
ORGANIZER;CN="DRU%C5%A0TVO HOSPIC":MAILTO:info@hospic.si
END:VEVENT
BEGIN:VEVENT
DTSTART;TZID=Europe/Helsinki:20190318T170000
DTEND;TZID=Europe/Helsinki:20190318T180000
DTSTAMP:20260425T172024
CREATED:20190308T121808Z
LAST-MODIFIED:20190308T121808Z
UID:7724-1552928400-1552932000@www.pogreb-ni-tabu.si
SUMMARY:Klub za žalujoče
DESCRIPTION:Dobrodošli vsi tisti\, ki so bili že aktivno vključeni v naše programe in/ali je od izgube bližnjega minilo leto ali več. Srečanja potekajo redno\, vsak tretji delavni ponedeljek v mesecu. \nPredhodne najave in dodatne informacije: Radmila Pavlovič Blatnik\, 051 419 558\, zalovanje@hospic.si.
URL:https://www.pogreb-ni-tabu.si/dogodek/klub-za-zalujoce-5/
LOCATION:Gosposvetska 9\, Gosposvetska cesta 9\, Ljubljana
ATTACH;FMTTYPE=image/jpeg:https://www.pogreb-ni-tabu.si/wp-content/uploads/2017/01/relax-1276639_1920-e1542025291917.jpg
ORGANIZER;CN="DRU%C5%A0TVO HOSPIC":MAILTO:info@hospic.si
END:VEVENT
BEGIN:VEVENT
DTSTART;TZID=Europe/Helsinki:20190315T100000
DTEND;TZID=Europe/Helsinki:20190315T113000
DTSTAMP:20260425T172024
CREATED:20190308T135458Z
LAST-MODIFIED:20190308T135458Z
UID:7791-1552644000-1552649400@www.pogreb-ni-tabu.si
SUMMARY:Pogovorno srečanje
DESCRIPTION:Z naslovom Žalovanje ob izgubi bližnjih in dar\, ki so ga pustili. Vabimo vas na pogovor o zavedanju lastne minljivosti\, občutenju potreb ob soočenju s smrtjo in izpuščanju življenja. Teme pogovora bodo tudi sprejemanje žalovanja in bolečine ob izgubi. Slovensko društvo hospic nadaljuje z sodelovanjem z Medgeneracijskim centrom Izola z rednimi srečanji tudi v letu 2019. \nDodatne informacije Nina Legat Čož\, 051 415 449\, nina.legat.coz@hospic.si ali obala@hospic.si.
URL:https://www.pogreb-ni-tabu.si/dogodek/pogovorno-srecanje-2/
LOCATION:Medgeneracijski center Izola\, Livade 7 a\, Izola\, Slovenija
ATTACH;FMTTYPE=image/jpeg:https://www.pogreb-ni-tabu.si/wp-content/uploads/2018/11/270-e1542028045109.jpg
ORGANIZER;CN="DRU%C5%A0TVO HOSPIC":MAILTO:info@hospic.si
END:VEVENT
BEGIN:VEVENT
DTSTART;TZID=Europe/Helsinki:20190314T150000
DTEND;TZID=Europe/Helsinki:20190314T170000
DTSTAMP:20260425T172024
CREATED:20190308T124921Z
LAST-MODIFIED:20190308T124921Z
UID:7740-1552575600-1552582800@www.pogreb-ni-tabu.si
SUMMARY:Sočutno mesto
DESCRIPTION:Svetovanje in nudenje ustrezne podpore bolnikom in njihovim svojcem za lažje soočanje z neozdravljivo boleznijo in pomoč pri načrtovanju nadaljnje oskrbe. \nDodatne informacije: Tamara Zemlič Radović\, 02/ 25 25 570\, maribor@hospic.si.
URL:https://www.pogreb-ni-tabu.si/dogodek/socutno-mesto-24/
LOCATION:UKC Maribor\, Oddelek za onkologijo\, Ljubljanska ulica 5\, Maribor
ATTACH;FMTTYPE=image/jpeg:https://www.pogreb-ni-tabu.si/wp-content/uploads/2019/03/3068-e1552049143464.jpg
ORGANIZER;CN="DRU%C5%A0TVO HOSPIC":MAILTO:info@hospic.si
END:VEVENT
BEGIN:VEVENT
DTSTART;TZID=Europe/Helsinki:20190314T150000
DTEND;TZID=Europe/Helsinki:20190314T160000
DTSTAMP:20260425T172024
CREATED:20190308T130349Z
LAST-MODIFIED:20190308T130349Z
UID:7754-1552575600-1552579200@www.pogreb-ni-tabu.si
SUMMARY:Svetovalnica
DESCRIPTION:Nudenje ustrezne podpore bolnikom in njihovim svojcem za lažje soočanje z neozdravljivo boleznijo in pomoč pri načrtovanju nadaljnje oskrbe. \nInformacije: Območni odbor Celje\, 03/754 86 011\, celje@hospic.si.
URL:https://www.pogreb-ni-tabu.si/dogodek/svetovalnica-12/
LOCATION:Splošna Bolnišnica Celje\, Oblakova ulica 5\, Celje
ATTACH;FMTTYPE=image/jpeg:https://www.pogreb-ni-tabu.si/wp-content/uploads/2018/11/O6R96S0-e1542025915269.jpg
ORGANIZER;CN="DRU%C5%A0TVO HOSPIC":MAILTO:info@hospic.si
END:VEVENT
BEGIN:VEVENT
DTSTART;TZID=Europe/Helsinki:20190314T080000
DTEND;TZID=Europe/Helsinki:20190314T170000
DTSTAMP:20260425T172024
CREATED:20190308T131708Z
LAST-MODIFIED:20190308T131708Z
UID:7764-1552550400-1552582800@www.pogreb-ni-tabu.si
SUMMARY:Predstavitev
DESCRIPTION:Slovenskega društva hospic in ustanovitev odbora v Zgornji Savinski dolini. Svoje delo in delo prostovoljcev v Slovenskem društvu hospic nam bo predstavila Darja Fale. \nDodatne informacije: Darja Fale\, 051 418 445\, darja.fale@hospic.si.
URL:https://www.pogreb-ni-tabu.si/dogodek/predstavitev/
LOCATION:Medgen borza\, Rečica ob Savinji 61\, Rečica ob Savinji\, Slovenija
ATTACH;FMTTYPE=image/jpeg:https://www.pogreb-ni-tabu.si/wp-content/uploads/2018/10/54-e1538395624123.jpg
ORGANIZER;CN="DRU%C5%A0TVO HOSPIC":MAILTO:info@hospic.si
END:VEVENT
BEGIN:VEVENT
DTSTART;TZID=Europe/Helsinki:20190313T173000
DTEND;TZID=Europe/Helsinki:20190313T203000
DTSTAMP:20260425T172024
CREATED:20190308T121608Z
LAST-MODIFIED:20190308T121608Z
UID:7721-1552498200-1552509000@www.pogreb-ni-tabu.si
SUMMARY:Izkustveno izobraževanje – Odnos do življenja in minljivosti
DESCRIPTION:1. sklop: Življenje\, močnejše od smrti. Tema tokratnega izobraževanja: Živeti s konflikti. \nPrijave: Andreja Cilenšek na detabuizacija@hospic.si ali 031 858 314.
URL:https://www.pogreb-ni-tabu.si/dogodek/izkustveno-izobrazevanje-odnos-do-zivljenja-in-minljivosti/
LOCATION:Gosposvetska 9\, Gosposvetska cesta 9\, Ljubljana
ATTACH;FMTTYPE=image/jpeg:https://www.pogreb-ni-tabu.si/wp-content/uploads/2019/03/346-e1552047353583.jpg
ORGANIZER;CN="DRU%C5%A0TVO HOSPIC":MAILTO:info@hospic.si
END:VEVENT
BEGIN:VEVENT
DTSTART;TZID=Europe/Helsinki:20190313T170000
DTEND;TZID=Europe/Helsinki:20190313T183000
DTSTAMP:20260425T172024
CREATED:20190308T125736Z
LAST-MODIFIED:20190308T125736Z
UID:7750-1552496400-1552501800@www.pogreb-ni-tabu.si
SUMMARY:Odprta skupina za odrasle žalujoče
DESCRIPTION:Brezplačna podporna skupina namenjena vsem žalujočim\, ne glede na pretečeni čas po izgubi bližnjega. \nPredhodna najava in dodatne informacije: Tamara Zemlič Radović\, 02/ 25 25 570\, maribor@hospic.si.
URL:https://www.pogreb-ni-tabu.si/dogodek/odprta-skupina-za-odrasle-zalujoce-2/
LOCATION:Partizanska cesta 12/II\, Partizanska cesta 12/II\, Maribor
ATTACH;FMTTYPE=image/jpeg:https://www.pogreb-ni-tabu.si/wp-content/uploads/2017/01/relax-1276639_1920-e1542025291917.jpg
ORGANIZER;CN="DRU%C5%A0TVO HOSPIC":MAILTO:info@hospic.si
END:VEVENT
BEGIN:VEVENT
DTSTART;TZID=Europe/Helsinki:20190313T130000
DTEND;TZID=Europe/Helsinki:20190313T150000
DTSTAMP:20260425T172024
CREATED:20190308T111719Z
LAST-MODIFIED:20190308T111846Z
UID:7719-1552482000-1552489200@www.pogreb-ni-tabu.si
SUMMARY:Info točka
DESCRIPTION:Širimo informacije o delovanju Slovenskega društva hospic\, pomagamo konkretnim ljudem\, ki imajo umirajoče\, govorimo s hudo bolnimi\, ki so tam in pridejo po toplo besedo\, ker jih je strah. \nDodatne in formacije: Tatjana Sedlar\, 041 365 783\, oskrba.lj@hospic.si
URL:https://www.pogreb-ni-tabu.si/dogodek/info-tocka-11/
LOCATION:Onkološki inštitut\, Zaloška cesta 2\, Ljubljana
ATTACH;FMTTYPE=image/png:https://www.pogreb-ni-tabu.si/wp-content/uploads/2018/10/written-conversation-speech-bubble-with-letter-i-inside-of-information-for-interface.png
ORGANIZER;CN="DRU%C5%A0TVO HOSPIC":MAILTO:info@hospic.si
END:VEVENT
BEGIN:VEVENT
DTSTART;TZID=Europe/Helsinki:20190312T173000
DTEND;TZID=Europe/Helsinki:20190312T183000
DTSTAMP:20260425T172024
CREATED:20190308T135047Z
LAST-MODIFIED:20190308T135047Z
UID:7787-1552411800-1552415400@www.pogreb-ni-tabu.si
SUMMARY:Pogovorno srečanje
DESCRIPTION:Z naslovom Radosti\, ki so nam jih dali bližnji še živeči in že umrli. Pogovor bo tekel o zavedanju lastne minljivosti\, občutenju potreb ob soočenju s smrtjo in izpuščanju življenja. Teme pogovora bodo tudi sprejemanje žalovanja in bolečine ob izgubi. Predavala bo dr. Jadranka Vrh Jermančič\, prostovoljka Slovenskega društva hospic. \nDodatne informacije Nina Legat Čož\, 051 415 449\, nina.legat.coz@hospic.si ali obala@hospic.si.
URL:https://www.pogreb-ni-tabu.si/dogodek/pogovorno-srecanje/
LOCATION:Center dnevnih aktivnosti Koper\, Cesta Zore Perello Godina 3\, Koper\, Slovenija
ATTACH;FMTTYPE=image/jpeg:https://www.pogreb-ni-tabu.si/wp-content/uploads/2019/03/253-e1552053028533.jpg
ORGANIZER;CN="DRU%C5%A0TVO HOSPIC":MAILTO:info@hospic.si
END:VEVENT
BEGIN:VEVENT
DTSTART;TZID=Europe/Helsinki:20190312T170000
DTEND;TZID=Europe/Helsinki:20190312T183000
DTSTAMP:20260425T172024
CREATED:20190308T131858Z
LAST-MODIFIED:20190308T131858Z
UID:7767-1552410000-1552415400@www.pogreb-ni-tabu.si
SUMMARY:Odprta skupina za žalujoče
DESCRIPTION:Brezplačna pogovorna skupina namenjena vsem žalujočim\, ne glede na pretečeni čas po izgubi bližnjega. Vodi Maja Žagar. \nInformacije in prijave: Maja Žagar: 051 454 845\, dolenska@hospic.si.
URL:https://www.pogreb-ni-tabu.si/dogodek/odprta-skupina-za-zalujoce-8/
LOCATION:Območni odbor Dolenjska\, Rozmanova 10\, Novo mesto\, Slovenija
ATTACH;FMTTYPE=image/jpeg:https://www.pogreb-ni-tabu.si/wp-content/uploads/2017/01/relax-1276639_1920-e1542025291917.jpg
ORGANIZER;CN="DRU%C5%A0TVO HOSPIC":MAILTO:info@hospic.si
END:VEVENT
BEGIN:VEVENT
DTSTART;TZID=Europe/Helsinki:20190312T170000
DTEND;TZID=Europe/Helsinki:20190312T180000
DTSTAMP:20260425T172024
CREATED:20190308T111350Z
LAST-MODIFIED:20190308T111350Z
UID:7717-1552410000-1552413600@www.pogreb-ni-tabu.si
SUMMARY:Levjesrčna druženja
DESCRIPTION:Brezplačna srečanja z različnimi oblikami druženja namenjena žalujočim otrokom in mladostnikom. \nPredhodne najave in dodatne informacije: Radmila Pavlovič Blatnik\, 051 419 558\, zalovanje.otrok@hospic.si
URL:https://www.pogreb-ni-tabu.si/dogodek/levjesrcna-druzenja-9/
LOCATION:Gosposvetska 9\, Gosposvetska cesta 9\, Ljubljana
ATTACH;FMTTYPE=image/png:https://www.pogreb-ni-tabu.si/wp-content/uploads/2018/11/Tabor-Levjesrcnih.png
ORGANIZER;CN="DRU%C5%A0TVO HOSPIC":MAILTO:info@hospic.si
END:VEVENT
BEGIN:VEVENT
DTSTART;TZID=Europe/Helsinki:20190312T160000
DTEND;TZID=Europe/Helsinki:20190312T170000
DTSTAMP:20260425T172024
CREATED:20190308T141052Z
LAST-MODIFIED:20190308T143530Z
UID:7796-1552406400-1552410000@www.pogreb-ni-tabu.si
SUMMARY:Kreativna delavnica za žalujoče otroke in mladostnike
DESCRIPTION:Vsak drugi torek v mesecu. \nPredhodne najave in dodatne informacije: Albin Polak\, 02/53 02 090\, murskasobota@hospic.si.
URL:https://www.pogreb-ni-tabu.si/dogodek/kreativna-delavnica-za-zalujoce-otroke-in-mladostnike-3/
LOCATION:Lendavska ulica 11\, Lendavska ulica 11\, Murska Sobota
ORGANIZER;CN="DRU%C5%A0TVO HOSPIC":MAILTO:info@hospic.si
END:VEVENT
BEGIN:VEVENT
DTSTART;TZID=Europe/Helsinki:20190312T133000
DTEND;TZID=Europe/Helsinki:20190312T153000
DTSTAMP:20260425T172024
CREATED:20190308T124611Z
LAST-MODIFIED:20190308T124611Z
UID:7737-1552397400-1552404600@www.pogreb-ni-tabu.si
SUMMARY:Sočutno mesto
DESCRIPTION:Svetovanje in nudenje ustrezne podpore bolnikom in njihovim svojcem za lažje soočanje z neozdravljivo boleznijo in pomoč pri načrtovanju nadaljnje oskrbe. \nDodatne informacije: Tamara Zemlič Radović\, 02/ 25 25 570\, maribor@hospic.si.
URL:https://www.pogreb-ni-tabu.si/dogodek/socutno-mesto-23/
LOCATION:UKC Maribor\, Oddelek za onkologijo\, Ljubljanska ulica 5\, Maribor
ATTACH;FMTTYPE=image/jpeg:https://www.pogreb-ni-tabu.si/wp-content/uploads/2019/03/3068-e1552049143464.jpg
ORGANIZER;CN="DRU%C5%A0TVO HOSPIC":MAILTO:info@hospic.si
END:VEVENT
BEGIN:VEVENT
DTSTART;TZID=Europe/Helsinki:20190228T170000
DTEND;TZID=Europe/Helsinki:20190228T183000
DTSTAMP:20260425T172024
CREATED:20190211T123903Z
LAST-MODIFIED:20190211T123903Z
UID:7690-1551373200-1551378600@www.pogreb-ni-tabu.si
SUMMARY:Levjesrčna druženja
DESCRIPTION:Brezplačna srečanja z različnimi oblikami druženja namenjena žalujočim otrokom in mladostnikom. \nPredhodne najave in dodatne informacije: Martina Košar\, 051/ 418 446\, celje@hospic.si
URL:https://www.pogreb-ni-tabu.si/dogodek/levjesrcna-druzenja-8/
LOCATION:Kocenova ulica 4\, Kocenova ulica 4\, Celje
ATTACH;FMTTYPE=image/png:https://www.pogreb-ni-tabu.si/wp-content/uploads/2018/11/Tabor-Levjesrcnih.png
ORGANIZER;CN="DRU%C5%A0TVO HOSPIC":MAILTO:info@hospic.si
END:VEVENT
BEGIN:VEVENT
DTSTART;TZID=Europe/Helsinki:20190228T150000
DTEND;TZID=Europe/Helsinki:20190228T160000
DTSTAMP:20260425T172024
CREATED:20190211T123516Z
LAST-MODIFIED:20190211T123516Z
UID:7686-1551366000-1551369600@www.pogreb-ni-tabu.si
SUMMARY:Svetovalnica
DESCRIPTION:Nudenje ustrezne podpore bolnikom in njihovim svojcem za lažje soočanje z neozdravljivo boleznijo in pomoč pri načrtovanju nadaljnje oskrbe. \nInformacije: Območni odbor Celje\, 03/754 86 011\, celje@hospic.si
URL:https://www.pogreb-ni-tabu.si/dogodek/svetovalnica-11/
LOCATION:Splošna Bolnišnica Celje\, Oblakova ulica 5\, Celje
ATTACH;FMTTYPE=image/jpeg:https://www.pogreb-ni-tabu.si/wp-content/uploads/2018/11/O6R96S0-e1542025915269.jpg
ORGANIZER;CN="DRU%C5%A0TVO HOSPIC":MAILTO:info@hospic.si
END:VEVENT
BEGIN:VEVENT
DTSTART;TZID=Europe/Helsinki:20190228T080000
DTEND;TZID=Europe/Helsinki:20190228T170000
DTSTAMP:20260425T172024
CREATED:20190211T122334Z
LAST-MODIFIED:20190211T122334Z
UID:7670-1551340800-1551373200@www.pogreb-ni-tabu.si
SUMMARY:Sočutno mesto
DESCRIPTION:Svetovanje in nudenje ustrezne podpore bolnikom in njihovim svojcem za lažje soočanje z neozdravljivo boleznijo in pomoč pri načrtovanju nadaljnje oskrbe. \nDodatne informacije: Tamara Zemlič Radović\, 02/ 25 25 570\, maribor@hospic.si
URL:https://www.pogreb-ni-tabu.si/dogodek/socutno-mesto-22/
LOCATION:UKC Maribor\, Oddelek za onkologijo\, Ljubljanska ulica 5\, Maribor
ATTACH;FMTTYPE=image/jpeg:https://www.pogreb-ni-tabu.si/wp-content/uploads/2018/11/9902-e1542024472589.jpg
ORGANIZER;CN="DRU%C5%A0TVO HOSPIC":MAILTO:info@hospic.si
END:VEVENT
BEGIN:VEVENT
DTSTART;TZID=Europe/Helsinki:20190227T170000
DTEND;TZID=Europe/Helsinki:20190227T183000
DTSTAMP:20260425T172024
CREATED:20190211T132303Z
LAST-MODIFIED:20190211T132304Z
UID:7707-1551286800-1551292200@www.pogreb-ni-tabu.si
SUMMARY:Večer hospica:  Soočanje z izgubo otroka med nosečnostjo ali kmalu po rojstvu
DESCRIPTION:Predavanje z naslovom Soočanje z izgubo otroka med nosečnostjo ali kmalu po rojstvu. Gostja: Petra Paver Urek \nDodatne informacije: Albin Polak\, 02/53 02 090\, murskasobota@hospic.si
URL:https://www.pogreb-ni-tabu.si/dogodek/vecer-hospica-soocanje-z-izgubo-otroka-med-nosecnostjo-ali-kmalu-po-rojstvu/
LOCATION:Pokrajinska študijska knjižnica Murska Sobota\, Zvezna ulica 10\, Murska Sobota
ATTACH;FMTTYPE=image/jpeg:https://www.pogreb-ni-tabu.si/wp-content/uploads/2018/10/1118-e1539166066234.jpg
ORGANIZER;CN="DRU%C5%A0TVO HOSPIC":MAILTO:info@hospic.si
END:VEVENT
BEGIN:VEVENT
DTSTART;TZID=Europe/Helsinki:20190227T130000
DTEND;TZID=Europe/Helsinki:20190227T150000
DTSTAMP:20260425T172024
CREATED:20190211T121324Z
LAST-MODIFIED:20190211T121324Z
UID:7660-1551272400-1551279600@www.pogreb-ni-tabu.si
SUMMARY:Info točka
DESCRIPTION:Širimo informacije o delovanju Slovenskega društva hospic\, pomagamo konkretnim ljudem\, ki imajo umirajoče\, govorimo s hudo bolnimi\, ki so tam in pridejo po toplo besedo\, ker jih je strah. \nDodatne in formacije: Tatjana Sedlar\, 041 365 783\, oskrba.lj@hospic.si
URL:https://www.pogreb-ni-tabu.si/dogodek/info-tocka-10/
LOCATION:Onkološki inštitut\, Zaloška cesta 2\, Ljubljana
ATTACH;FMTTYPE=image/png:https://www.pogreb-ni-tabu.si/wp-content/uploads/2018/10/written-conversation-speech-bubble-with-letter-i-inside-of-information-for-interface-1.png
ORGANIZER;CN="DRU%C5%A0TVO HOSPIC":MAILTO:info@hospic.si
END:VEVENT
BEGIN:VEVENT
DTSTART;TZID=Europe/Helsinki:20190226T180000
DTEND;TZID=Europe/Helsinki:20190226T190000
DTSTAMP:20260425T172024
CREATED:20190211T121102Z
LAST-MODIFIED:20190211T121102Z
UID:7658-1551204000-1551207600@www.pogreb-ni-tabu.si
SUMMARY:Hospickafe: Zanikanje čustev ob izgubah
DESCRIPTION:Vsak človek ob izgubi žaluje na svoj način. Nobeno žalovanje ni napačno\, pa vendar se lahko znajdemo v krogu čustev\, ki jih skušamo z vso močjo zanikati. Kam nas to vodi? Lahko tudi v zanikanje žalovanja\, ki pa je nujno\, da bi lahko – po kakršni koli boleči izgubi – nadaljevali človeka vredno življenje. \nV večeru prvega letošnjega Hospickafeja se bomo pogovarjali z Liljano Vogrinec\, direktorico družinskega podjetja\, ki je še ne leto nazaj nenadoma izgubila dolgoletnega partnerja. Življenje se ji je v hipu spremenilo. Spremeniti pa se je morala tudi sama. Z nami bo tudi režiser in pisatelj Vinko Möderndorfer\, ki žalost in izgube doživlja kot človek in kot ustvarjalec. Z nami pa bo tudi strokovnjakinja na področju svetovanja ob izgubah in žalovanju Radmila Pavlović Blatnik iz Slovenskega društva hospic. Dogodek povezuje Carmen L. Oven. Pridite se pogovarjati z nami! \nDodatne informacije: 01 24 44 493\, ljubljana@hospic.si\, detabuizacija@hospic.si
URL:https://www.pogreb-ni-tabu.si/dogodek/hospickafe-zanikanje-custev-ob-izgubah/
LOCATION:Knjigarna Konzorcij\, Slovenska cesta 29\, Ljubljana
ATTACH;FMTTYPE=image/jpeg:https://www.pogreb-ni-tabu.si/wp-content/uploads/2018/11/270-e1542028045109.jpg
ORGANIZER;CN="DRU%C5%A0TVO HOSPIC":MAILTO:info@hospic.si
END:VEVENT
BEGIN:VEVENT
DTSTART;TZID=Europe/Helsinki:20190226T170000
DTEND;TZID=Europe/Helsinki:20190226T180000
DTSTAMP:20260425T172024
CREATED:20190211T123720Z
LAST-MODIFIED:20190211T123720Z
UID:7688-1551200400-1551204000@www.pogreb-ni-tabu.si
SUMMARY:Odprta skupina za žalujoče
DESCRIPTION:Brezplačna pogovorna skupina namenjena vsem žalujočim\, ne glede na pretečeni čas po izgubi bližnjega. \nPredhodne najave in dodatne informacije: Martina Košar\, 051/ 418 446\, zalovanje.odraslih@hospic.si \n 
URL:https://www.pogreb-ni-tabu.si/dogodek/odprta-skupina-za-zalujoce-4/
LOCATION:Kocenova ulica 4\, Kocenova ulica 4\, Celje
ATTACH;FMTTYPE=image/jpeg:https://www.pogreb-ni-tabu.si/wp-content/uploads/2017/01/relax-1276639_1920-e1542025291917.jpg
ORGANIZER;CN="DRU%C5%A0TVO HOSPIC":MAILTO:info@hospic.si
END:VEVENT
BEGIN:VEVENT
DTSTART;TZID=Europe/Helsinki:20190226T170000
DTEND;TZID=Europe/Helsinki:20190226T180000
DTSTAMP:20260425T172024
CREATED:20190211T122829Z
LAST-MODIFIED:20190211T122829Z
UID:7677-1551200400-1551204000@www.pogreb-ni-tabu.si
SUMMARY:Levjesrčno druženje za otroke
DESCRIPTION:Brezplačna srečanja z različnimi oblikami druženja namenjena žalujočim otrokom in mladostnikom. \nPredhodna najava in dodatne informacije: Tamara Zemlič Radović\, 02/ 25 25 570\, maribor@hospic.si
URL:https://www.pogreb-ni-tabu.si/dogodek/levjesrcno-druzenje-za-otroke-3/
LOCATION:Partizanska cesta 12/II\, Partizanska cesta 12/II\, Maribor
ATTACH;FMTTYPE=image/png:https://www.pogreb-ni-tabu.si/wp-content/uploads/2018/11/Tabor-Levjesrcnih.png
ORGANIZER;CN="DRU%C5%A0TVO HOSPIC":MAILTO:info@hospic.si
END:VEVENT
BEGIN:VEVENT
DTSTART;TZID=Europe/Helsinki:20190226T133000
DTEND;TZID=Europe/Helsinki:20190226T153000
DTSTAMP:20260425T172024
CREATED:20190211T122111Z
LAST-MODIFIED:20190211T122111Z
UID:7665-1551187800-1551195000@www.pogreb-ni-tabu.si
SUMMARY:Sočutno mesto
DESCRIPTION:Svetovanje in nudenje ustrezne podpore bolnikom in njihovim svojcem za lažje soočanje z neozdravljivo boleznijo in pomoč pri načrtovanju nadaljnje oskrbe. \nDodatne informacije: Tamara Zemlič Radović\, 02/ 25 25 570\, maribor@hospic.si
URL:https://www.pogreb-ni-tabu.si/dogodek/socutno-mesto-19/
LOCATION:UKC Maribor\, Oddelek za onkologijo\, Ljubljanska ulica 5\, Maribor
ATTACH;FMTTYPE=image/jpeg:https://www.pogreb-ni-tabu.si/wp-content/uploads/2018/11/9902-e1542024472589.jpg
ORGANIZER;CN="DRU%C5%A0TVO HOSPIC":MAILTO:info@hospic.si
END:VEVENT
BEGIN:VEVENT
DTSTART;TZID=Europe/Helsinki:20190221T180000
DTEND;TZID=Europe/Helsinki:20190221T190000
DTSTAMP:20260425T172024
CREATED:20190211T124920Z
LAST-MODIFIED:20190211T124920Z
UID:7700-1550772000-1550775600@www.pogreb-ni-tabu.si
SUMMARY:Klub za žalujoče
DESCRIPTION:Dobrodošli vsi tisti\, ki so bili že aktivno vključeni v naše programe in/ali je od izgube bližnjega minilo leto ali več. \nTelefon: 051 415 449\, obala@hospic.si
URL:https://www.pogreb-ni-tabu.si/dogodek/klub-za-zalujoce-4/
LOCATION:Območni odbor Slovenske Istre\, Mladinska ulica 6\, Koper
ATTACH;FMTTYPE=image/jpeg:https://www.pogreb-ni-tabu.si/wp-content/uploads/2017/01/relax-1276639_1920-e1542025291917.jpg
ORGANIZER;CN="DRU%C5%A0TVO HOSPIC":MAILTO:info@hospic.si
END:VEVENT
BEGIN:VEVENT
DTSTART;TZID=Europe/Helsinki:20190221T150000
DTEND;TZID=Europe/Helsinki:20190221T170000
DTSTAMP:20260425T172024
CREATED:20190211T122315Z
LAST-MODIFIED:20190211T122315Z
UID:7669-1550761200-1550768400@www.pogreb-ni-tabu.si
SUMMARY:Sočutno mesto
DESCRIPTION:Svetovanje in nudenje ustrezne podpore bolnikom in njihovim svojcem za lažje soočanje z neozdravljivo boleznijo in pomoč pri načrtovanju nadaljnje oskrbe. \nDodatne informacije: Tamara Zemlič Radović\, 02/ 25 25 570\, maribor@hospic.si
URL:https://www.pogreb-ni-tabu.si/dogodek/socutno-mesto-21/
LOCATION:UKC Maribor\, Oddelek za onkologijo\, Ljubljanska ulica 5\, Maribor
ATTACH;FMTTYPE=image/jpeg:https://www.pogreb-ni-tabu.si/wp-content/uploads/2018/11/9902-e1542024472589.jpg
ORGANIZER;CN="DRU%C5%A0TVO HOSPIC":MAILTO:info@hospic.si
END:VEVENT
BEGIN:VEVENT
DTSTART;TZID=Europe/Helsinki:20190221T150000
DTEND;TZID=Europe/Helsinki:20190221T160000
DTSTAMP:20260425T172024
CREATED:20190211T123411Z
LAST-MODIFIED:20190211T123411Z
UID:7684-1550761200-1550764800@www.pogreb-ni-tabu.si
SUMMARY:Svetovalnica
DESCRIPTION:Nudenje ustrezne podpore bolnikom in njihovim svojcem za lažje soočanje z neozdravljivo boleznijo in pomoč pri načrtovanju nadaljnje oskrbe. \nInformacije: Območni odbor Celje\, 03/754 86 011\, celje@hospic.si
URL:https://www.pogreb-ni-tabu.si/dogodek/svetovalnica-10/
LOCATION:Splošna Bolnišnica Celje\, Oblakova ulica 5\, Celje
ATTACH;FMTTYPE=image/jpeg:https://www.pogreb-ni-tabu.si/wp-content/uploads/2018/11/O6R96S0-e1542025915269.jpg
ORGANIZER;CN="DRU%C5%A0TVO HOSPIC":MAILTO:info@hospic.si
END:VEVENT
BEGIN:VEVENT
DTSTART;TZID=Europe/Helsinki:20190220T191900
DTEND;TZID=Europe/Helsinki:20190220T210000
DTSTAMP:20260425T172024
CREATED:20190211T124223Z
LAST-MODIFIED:20190211T124223Z
UID:7692-1550690340-1550696400@www.pogreb-ni-tabu.si
SUMMARY:Hospickafe: Prostovoljstvo v Slovenskem društvu hospic
DESCRIPTION:Februarski Hospickafe bomo namenili predstavitvi prostovoljstva v Slovenskem društvu Hospic. S prostovoljkama Admiro Robin in Sandro Višnjić\, se bomo pogovarjali o področjih na katerih Slovensko društvo Hospic deluje in o njunih osebnih izkušnjah s prostovoljstvom. Povezuje novinarka Mojca Štruc. \nInformacije: Območni odbor Velenje 068 122 471\, velenje@hospic.si
URL:https://www.pogreb-ni-tabu.si/dogodek/hospickafe-prostovoljstvo-v-slovenskem-drustvu-hospic/
LOCATION:Mestna knjižnica Velenje\, Šaleška cesta 21\, Velenje\, Slovenija
ATTACH;FMTTYPE=image/jpeg:https://www.pogreb-ni-tabu.si/wp-content/uploads/2018/10/2745-e1539628790847.jpg
ORGANIZER;CN="DRU%C5%A0TVO HOSPIC":MAILTO:info@hospic.si
END:VEVENT
BEGIN:VEVENT
DTSTART;TZID=Europe/Helsinki:20190220T130000
DTEND;TZID=Europe/Helsinki:20190220T150000
DTSTAMP:20260425T172024
CREATED:20190211T120726Z
LAST-MODIFIED:20190211T120733Z
UID:7656-1550667600-1550674800@www.pogreb-ni-tabu.si
SUMMARY:Info točka
DESCRIPTION:Širimo informacije o delovanju Slovenskega društva hospic\, pomagamo konkretnim ljudem\, ki imajo umirajoče\, govorimo s hudo bolnimi\, ki so tam in pridejo po toplo besedo\, ker jih je strah. \nDodatne in formacije: Tatjana Sedlar\, 041 365 783\, oskrba.lj@hospic.si
URL:https://www.pogreb-ni-tabu.si/dogodek/info-tocka-9/
LOCATION:Onkološki inštitut\, Zaloška cesta 2\, Ljubljana
ATTACH;FMTTYPE=image/png:https://www.pogreb-ni-tabu.si/wp-content/uploads/2018/10/written-conversation-speech-bubble-with-letter-i-inside-of-information-for-interface-1.png
ORGANIZER;CN="DRU%C5%A0TVO HOSPIC":MAILTO:info@hospic.si
END:VEVENT
BEGIN:VEVENT
DTSTART;TZID=Europe/Helsinki:20190219T170000
DTEND;TZID=Europe/Helsinki:20190219T180000
DTSTAMP:20260425T172024
CREATED:20190211T124700Z
LAST-MODIFIED:20190211T124700Z
UID:7698-1550595600-1550599200@www.pogreb-ni-tabu.si
SUMMARY:Levjesrčna druženja za žalujoče otroke
DESCRIPTION:Brezplačna srečanja z različnimi oblikami druženja namenjena žalujočim otrokom in mladostnikom. Vodi Maja Žagar. \nInformacije in prijave: Maja Žagar: 051 454 845\, dolenska@hospic.si
URL:https://www.pogreb-ni-tabu.si/dogodek/levjesrcna-druzenja-za-zalujoce-otroke/
LOCATION:Območni odbor Dolenjska\, Rozmanova 10\, Novo mesto\, Slovenija
ATTACH;FMTTYPE=image/png:https://www.pogreb-ni-tabu.si/wp-content/uploads/2018/11/Tabor-Levjesrcnih.png
ORGANIZER;CN="DRU%C5%A0TVO HOSPIC":MAILTO:info@hospic.si
END:VEVENT
END:VCALENDAR