BEGIN:VCALENDAR
VERSION:2.0
PRODID:-//Zavod Pogreb ni tabu - ECPv6.15.18//NONSGML v1.0//EN
CALSCALE:GREGORIAN
METHOD:PUBLISH
X-ORIGINAL-URL:https://www.pogreb-ni-tabu.si
X-WR-CALDESC:Events for Zavod Pogreb ni tabu
REFRESH-INTERVAL;VALUE=DURATION:PT1H
X-Robots-Tag:noindex
X-PUBLISHED-TTL:PT1H
BEGIN:VTIMEZONE
TZID:Europe/Helsinki
BEGIN:DAYLIGHT
TZOFFSETFROM:+0200
TZOFFSETTO:+0300
TZNAME:EEST
DTSTART:20180325T010000
END:DAYLIGHT
BEGIN:STANDARD
TZOFFSETFROM:+0300
TZOFFSETTO:+0200
TZNAME:EET
DTSTART:20181028T010000
END:STANDARD
BEGIN:DAYLIGHT
TZOFFSETFROM:+0200
TZOFFSETTO:+0300
TZNAME:EEST
DTSTART:20190331T010000
END:DAYLIGHT
BEGIN:STANDARD
TZOFFSETFROM:+0300
TZOFFSETTO:+0200
TZNAME:EET
DTSTART:20191027T010000
END:STANDARD
BEGIN:DAYLIGHT
TZOFFSETFROM:+0200
TZOFFSETTO:+0300
TZNAME:EEST
DTSTART:20200329T010000
END:DAYLIGHT
BEGIN:STANDARD
TZOFFSETFROM:+0300
TZOFFSETTO:+0200
TZNAME:EET
DTSTART:20201025T010000
END:STANDARD
END:VTIMEZONE
BEGIN:VEVENT
DTSTART;TZID=Europe/Helsinki:20190226T180000
DTEND;TZID=Europe/Helsinki:20190226T190000
DTSTAMP:20260425T210256
CREATED:20190211T121102Z
LAST-MODIFIED:20190211T121102Z
UID:7658-1551204000-1551207600@www.pogreb-ni-tabu.si
SUMMARY:Hospickafe: Zanikanje čustev ob izgubah
DESCRIPTION:Vsak človek ob izgubi žaluje na svoj način. Nobeno žalovanje ni napačno\, pa vendar se lahko znajdemo v krogu čustev\, ki jih skušamo z vso močjo zanikati. Kam nas to vodi? Lahko tudi v zanikanje žalovanja\, ki pa je nujno\, da bi lahko – po kakršni koli boleči izgubi – nadaljevali človeka vredno življenje. \nV večeru prvega letošnjega Hospickafeja se bomo pogovarjali z Liljano Vogrinec\, direktorico družinskega podjetja\, ki je še ne leto nazaj nenadoma izgubila dolgoletnega partnerja. Življenje se ji je v hipu spremenilo. Spremeniti pa se je morala tudi sama. Z nami bo tudi režiser in pisatelj Vinko Möderndorfer\, ki žalost in izgube doživlja kot človek in kot ustvarjalec. Z nami pa bo tudi strokovnjakinja na področju svetovanja ob izgubah in žalovanju Radmila Pavlović Blatnik iz Slovenskega društva hospic. Dogodek povezuje Carmen L. Oven. Pridite se pogovarjati z nami! \nDodatne informacije: 01 24 44 493\, ljubljana@hospic.si\, detabuizacija@hospic.si
URL:https://www.pogreb-ni-tabu.si/dogodek/hospickafe-zanikanje-custev-ob-izgubah/
LOCATION:Knjigarna Konzorcij\, Slovenska cesta 29\, Ljubljana
ATTACH;FMTTYPE=image/jpeg:https://www.pogreb-ni-tabu.si/wp-content/uploads/2018/11/270-e1542028045109.jpg
ORGANIZER;CN="DRU%C5%A0TVO HOSPIC":MAILTO:info@hospic.si
END:VEVENT
BEGIN:VEVENT
DTSTART;TZID=Europe/Helsinki:20190226T170000
DTEND;TZID=Europe/Helsinki:20190226T180000
DTSTAMP:20260425T210256
CREATED:20190211T123720Z
LAST-MODIFIED:20190211T123720Z
UID:7688-1551200400-1551204000@www.pogreb-ni-tabu.si
SUMMARY:Odprta skupina za žalujoče
DESCRIPTION:Brezplačna pogovorna skupina namenjena vsem žalujočim\, ne glede na pretečeni čas po izgubi bližnjega. \nPredhodne najave in dodatne informacije: Martina Košar\, 051/ 418 446\, zalovanje.odraslih@hospic.si \n 
URL:https://www.pogreb-ni-tabu.si/dogodek/odprta-skupina-za-zalujoce-4/
LOCATION:Kocenova ulica 4\, Kocenova ulica 4\, Celje
ATTACH;FMTTYPE=image/jpeg:https://www.pogreb-ni-tabu.si/wp-content/uploads/2017/01/relax-1276639_1920-e1542025291917.jpg
ORGANIZER;CN="DRU%C5%A0TVO HOSPIC":MAILTO:info@hospic.si
END:VEVENT
BEGIN:VEVENT
DTSTART;TZID=Europe/Helsinki:20190226T170000
DTEND;TZID=Europe/Helsinki:20190226T180000
DTSTAMP:20260425T210256
CREATED:20190211T122829Z
LAST-MODIFIED:20190211T122829Z
UID:7677-1551200400-1551204000@www.pogreb-ni-tabu.si
SUMMARY:Levjesrčno druženje za otroke
DESCRIPTION:Brezplačna srečanja z različnimi oblikami druženja namenjena žalujočim otrokom in mladostnikom. \nPredhodna najava in dodatne informacije: Tamara Zemlič Radović\, 02/ 25 25 570\, maribor@hospic.si
URL:https://www.pogreb-ni-tabu.si/dogodek/levjesrcno-druzenje-za-otroke-3/
LOCATION:Partizanska cesta 12/II\, Partizanska cesta 12/II\, Maribor
ATTACH;FMTTYPE=image/png:https://www.pogreb-ni-tabu.si/wp-content/uploads/2018/11/Tabor-Levjesrcnih.png
ORGANIZER;CN="DRU%C5%A0TVO HOSPIC":MAILTO:info@hospic.si
END:VEVENT
BEGIN:VEVENT
DTSTART;TZID=Europe/Helsinki:20190226T133000
DTEND;TZID=Europe/Helsinki:20190226T153000
DTSTAMP:20260425T210256
CREATED:20190211T122111Z
LAST-MODIFIED:20190211T122111Z
UID:7665-1551187800-1551195000@www.pogreb-ni-tabu.si
SUMMARY:Sočutno mesto
DESCRIPTION:Svetovanje in nudenje ustrezne podpore bolnikom in njihovim svojcem za lažje soočanje z neozdravljivo boleznijo in pomoč pri načrtovanju nadaljnje oskrbe. \nDodatne informacije: Tamara Zemlič Radović\, 02/ 25 25 570\, maribor@hospic.si
URL:https://www.pogreb-ni-tabu.si/dogodek/socutno-mesto-19/
LOCATION:UKC Maribor\, Oddelek za onkologijo\, Ljubljanska ulica 5\, Maribor
ATTACH;FMTTYPE=image/jpeg:https://www.pogreb-ni-tabu.si/wp-content/uploads/2018/11/9902-e1542024472589.jpg
ORGANIZER;CN="DRU%C5%A0TVO HOSPIC":MAILTO:info@hospic.si
END:VEVENT
BEGIN:VEVENT
DTSTART;TZID=Europe/Helsinki:20190221T180000
DTEND;TZID=Europe/Helsinki:20190221T190000
DTSTAMP:20260425T210256
CREATED:20190211T124920Z
LAST-MODIFIED:20190211T124920Z
UID:7700-1550772000-1550775600@www.pogreb-ni-tabu.si
SUMMARY:Klub za žalujoče
DESCRIPTION:Dobrodošli vsi tisti\, ki so bili že aktivno vključeni v naše programe in/ali je od izgube bližnjega minilo leto ali več. \nTelefon: 051 415 449\, obala@hospic.si
URL:https://www.pogreb-ni-tabu.si/dogodek/klub-za-zalujoce-4/
LOCATION:Območni odbor Slovenske Istre\, Mladinska ulica 6\, Koper
ATTACH;FMTTYPE=image/jpeg:https://www.pogreb-ni-tabu.si/wp-content/uploads/2017/01/relax-1276639_1920-e1542025291917.jpg
ORGANIZER;CN="DRU%C5%A0TVO HOSPIC":MAILTO:info@hospic.si
END:VEVENT
BEGIN:VEVENT
DTSTART;TZID=Europe/Helsinki:20190221T150000
DTEND;TZID=Europe/Helsinki:20190221T170000
DTSTAMP:20260425T210256
CREATED:20190211T122315Z
LAST-MODIFIED:20190211T122315Z
UID:7669-1550761200-1550768400@www.pogreb-ni-tabu.si
SUMMARY:Sočutno mesto
DESCRIPTION:Svetovanje in nudenje ustrezne podpore bolnikom in njihovim svojcem za lažje soočanje z neozdravljivo boleznijo in pomoč pri načrtovanju nadaljnje oskrbe. \nDodatne informacije: Tamara Zemlič Radović\, 02/ 25 25 570\, maribor@hospic.si
URL:https://www.pogreb-ni-tabu.si/dogodek/socutno-mesto-21/
LOCATION:UKC Maribor\, Oddelek za onkologijo\, Ljubljanska ulica 5\, Maribor
ATTACH;FMTTYPE=image/jpeg:https://www.pogreb-ni-tabu.si/wp-content/uploads/2018/11/9902-e1542024472589.jpg
ORGANIZER;CN="DRU%C5%A0TVO HOSPIC":MAILTO:info@hospic.si
END:VEVENT
BEGIN:VEVENT
DTSTART;TZID=Europe/Helsinki:20190221T150000
DTEND;TZID=Europe/Helsinki:20190221T160000
DTSTAMP:20260425T210256
CREATED:20190211T123411Z
LAST-MODIFIED:20190211T123411Z
UID:7684-1550761200-1550764800@www.pogreb-ni-tabu.si
SUMMARY:Svetovalnica
DESCRIPTION:Nudenje ustrezne podpore bolnikom in njihovim svojcem za lažje soočanje z neozdravljivo boleznijo in pomoč pri načrtovanju nadaljnje oskrbe. \nInformacije: Območni odbor Celje\, 03/754 86 011\, celje@hospic.si
URL:https://www.pogreb-ni-tabu.si/dogodek/svetovalnica-10/
LOCATION:Splošna Bolnišnica Celje\, Oblakova ulica 5\, Celje
ATTACH;FMTTYPE=image/jpeg:https://www.pogreb-ni-tabu.si/wp-content/uploads/2018/11/O6R96S0-e1542025915269.jpg
ORGANIZER;CN="DRU%C5%A0TVO HOSPIC":MAILTO:info@hospic.si
END:VEVENT
BEGIN:VEVENT
DTSTART;TZID=Europe/Helsinki:20190220T191900
DTEND;TZID=Europe/Helsinki:20190220T210000
DTSTAMP:20260425T210256
CREATED:20190211T124223Z
LAST-MODIFIED:20190211T124223Z
UID:7692-1550690340-1550696400@www.pogreb-ni-tabu.si
SUMMARY:Hospickafe: Prostovoljstvo v Slovenskem društvu hospic
DESCRIPTION:Februarski Hospickafe bomo namenili predstavitvi prostovoljstva v Slovenskem društvu Hospic. S prostovoljkama Admiro Robin in Sandro Višnjić\, se bomo pogovarjali o področjih na katerih Slovensko društvo Hospic deluje in o njunih osebnih izkušnjah s prostovoljstvom. Povezuje novinarka Mojca Štruc. \nInformacije: Območni odbor Velenje 068 122 471\, velenje@hospic.si
URL:https://www.pogreb-ni-tabu.si/dogodek/hospickafe-prostovoljstvo-v-slovenskem-drustvu-hospic/
LOCATION:Mestna knjižnica Velenje\, Šaleška cesta 21\, Velenje\, Slovenija
ATTACH;FMTTYPE=image/jpeg:https://www.pogreb-ni-tabu.si/wp-content/uploads/2018/10/2745-e1539628790847.jpg
ORGANIZER;CN="DRU%C5%A0TVO HOSPIC":MAILTO:info@hospic.si
END:VEVENT
BEGIN:VEVENT
DTSTART;TZID=Europe/Helsinki:20190220T130000
DTEND;TZID=Europe/Helsinki:20190220T150000
DTSTAMP:20260425T210256
CREATED:20190211T120726Z
LAST-MODIFIED:20190211T120733Z
UID:7656-1550667600-1550674800@www.pogreb-ni-tabu.si
SUMMARY:Info točka
DESCRIPTION:Širimo informacije o delovanju Slovenskega društva hospic\, pomagamo konkretnim ljudem\, ki imajo umirajoče\, govorimo s hudo bolnimi\, ki so tam in pridejo po toplo besedo\, ker jih je strah. \nDodatne in formacije: Tatjana Sedlar\, 041 365 783\, oskrba.lj@hospic.si
URL:https://www.pogreb-ni-tabu.si/dogodek/info-tocka-9/
LOCATION:Onkološki inštitut\, Zaloška cesta 2\, Ljubljana
ATTACH;FMTTYPE=image/png:https://www.pogreb-ni-tabu.si/wp-content/uploads/2018/10/written-conversation-speech-bubble-with-letter-i-inside-of-information-for-interface-1.png
ORGANIZER;CN="DRU%C5%A0TVO HOSPIC":MAILTO:info@hospic.si
END:VEVENT
BEGIN:VEVENT
DTSTART;TZID=Europe/Helsinki:20190219T170000
DTEND;TZID=Europe/Helsinki:20190219T180000
DTSTAMP:20260425T210256
CREATED:20190211T124700Z
LAST-MODIFIED:20190211T124700Z
UID:7698-1550595600-1550599200@www.pogreb-ni-tabu.si
SUMMARY:Levjesrčna druženja za žalujoče otroke
DESCRIPTION:Brezplačna srečanja z različnimi oblikami druženja namenjena žalujočim otrokom in mladostnikom. Vodi Maja Žagar. \nInformacije in prijave: Maja Žagar: 051 454 845\, dolenska@hospic.si
URL:https://www.pogreb-ni-tabu.si/dogodek/levjesrcna-druzenja-za-zalujoce-otroke/
LOCATION:Območni odbor Dolenjska\, Rozmanova 10\, Novo mesto\, Slovenija
ATTACH;FMTTYPE=image/png:https://www.pogreb-ni-tabu.si/wp-content/uploads/2018/11/Tabor-Levjesrcnih.png
ORGANIZER;CN="DRU%C5%A0TVO HOSPIC":MAILTO:info@hospic.si
END:VEVENT
BEGIN:VEVENT
DTSTART;TZID=Europe/Helsinki:20190219T170000
DTEND;TZID=Europe/Helsinki:20190219T180000
DTSTAMP:20260425T210256
CREATED:20190211T122648Z
LAST-MODIFIED:20190211T122648Z
UID:7675-1550595600-1550599200@www.pogreb-ni-tabu.si
SUMMARY:Odprta skupina za odrasle
DESCRIPTION:Brezplačna podporna skupina namenjena vsem žalujočim\, ne glede na pretečeni čas po izgubi bližnjega. \nPredhodna najava in dodatne informacije: Tamara Zemlič Radović\, 02/ 25 25 570\, maribor@hospic.si
URL:https://www.pogreb-ni-tabu.si/dogodek/odprta-skupina-za-odrasle/
LOCATION:Partizanska cesta 12/II\, Partizanska cesta 12/II\, Maribor
ATTACH;FMTTYPE=image/jpeg:https://www.pogreb-ni-tabu.si/wp-content/uploads/2017/01/relax-1276639_1920-e1542025291917.jpg
ORGANIZER;CN="DRU%C5%A0TVO HOSPIC":MAILTO:info@hospic.si
END:VEVENT
BEGIN:VEVENT
DTSTART;TZID=Europe/Helsinki:20190219T133000
DTEND;TZID=Europe/Helsinki:20190219T153000
DTSTAMP:20260425T210256
CREATED:20190211T121931Z
LAST-MODIFIED:20190211T121931Z
UID:7664-1550583000-1550590200@www.pogreb-ni-tabu.si
SUMMARY:Sočutno mesto
DESCRIPTION:Svetovanje in nudenje ustrezne podpore bolnikom in njihovim svojcem za lažje soočanje z neozdravljivo boleznijo in pomoč pri načrtovanju nadaljnje oskrbe. \nDodatne informacije: Tamara Zemlič Radović\, 02/ 25 25 570\, maribor@hospic.si
URL:https://www.pogreb-ni-tabu.si/dogodek/socutno-mesto-18/
LOCATION:UKC Maribor\, Oddelek za onkologijo\, Ljubljanska ulica 5\, Maribor
ATTACH;FMTTYPE=image/jpeg:https://www.pogreb-ni-tabu.si/wp-content/uploads/2018/11/9902-e1542024472589.jpg
ORGANIZER;CN="DRU%C5%A0TVO HOSPIC":MAILTO:info@hospic.si
END:VEVENT
BEGIN:VEVENT
DTSTART;TZID=Europe/Helsinki:20190218T170000
DTEND;TZID=Europe/Helsinki:20190218T190000
DTSTAMP:20260425T210256
CREATED:20190211T120529Z
LAST-MODIFIED:20190211T120529Z
UID:7654-1550509200-1550516400@www.pogreb-ni-tabu.si
SUMMARY:Klub za žalujoče
DESCRIPTION:Dobrodošli vsi tisti\, ki so bili že aktivno vključeni v naše programe in/ali je od izgube bližnjega minilo leto ali več. Srečanja potekajo redno\, vsak tretji delavni ponedeljek v mesecu. \nPredhodne najave in dodatne informacije: Radmila Pavlovič Blatnik\, 051 419 558\, zalovanje@hospic.si
URL:https://www.pogreb-ni-tabu.si/dogodek/klub-za-zalujoce-3/
LOCATION:Gosposvetska 9\, Gosposvetska cesta 9\, Ljubljana
ATTACH;FMTTYPE=image/jpeg:https://www.pogreb-ni-tabu.si/wp-content/uploads/2017/01/relax-1276639_1920-e1542025291917.jpg
ORGANIZER;CN="DRU%C5%A0TVO HOSPIC":MAILTO:info@hospic.si
END:VEVENT
BEGIN:VEVENT
DTSTART;TZID=Europe/Helsinki:20190215T172500
DTEND;TZID=Europe/Helsinki:20190215T181000
DTSTAMP:20260425T210256
CREATED:20190211T125536Z
LAST-MODIFIED:20190211T125536Z
UID:7704-1550251500-1550254200@www.pogreb-ni-tabu.si
SUMMARY:Mednarodni simpozij 2019
DESCRIPTION:Več informacij:  http://www.osfpcrensovci.si/?page_id=79
URL:https://www.pogreb-ni-tabu.si/dogodek/mednarodni-simpozij-2019/
LOCATION:Osnovna šola Črešnovci\, Juša Kramarja 10\, Črenšovci\, Slovenija
ATTACH;FMTTYPE=image/jpeg:https://www.pogreb-ni-tabu.si/wp-content/uploads/2018/12/3909-e1544796142238.jpg
ORGANIZER;CN="DRU%C5%A0TVO HOSPIC":MAILTO:info@hospic.si
END:VEVENT
BEGIN:VEVENT
DTSTART;TZID=Europe/Helsinki:20190214T180000
DTEND;TZID=Europe/Helsinki:20190214T193000
DTSTAMP:20260425T210256
CREATED:20190211T132637Z
LAST-MODIFIED:20190211T132637Z
UID:7711-1550167200-1550172600@www.pogreb-ni-tabu.si
SUMMARY:Večer hospica. Literarni večer z Bojano
DESCRIPTION:Dodatne informacije: Marjetica Stojanović Verdinek\, 051/441 638. koroska@hospic.si
URL:https://www.pogreb-ni-tabu.si/dogodek/vecer-hospica-literarni-vecer-z-bojano/
LOCATION:Glavni trg 9\, Glavni trg 9\, Slovenj Gradec
ATTACH;FMTTYPE=image/jpeg:https://www.pogreb-ni-tabu.si/wp-content/uploads/2018/10/54-e1538395624123.jpg
ORGANIZER;CN="DRU%C5%A0TVO HOSPIC":MAILTO:info@hospic.si
END:VEVENT
BEGIN:VEVENT
DTSTART;TZID=Europe/Helsinki:20190214T150000
DTEND;TZID=Europe/Helsinki:20190214T170000
DTSTAMP:20260425T210256
CREATED:20190211T122233Z
LAST-MODIFIED:20190211T122233Z
UID:7666-1550156400-1550163600@www.pogreb-ni-tabu.si
SUMMARY:Sočutno mesto
DESCRIPTION:Svetovanje in nudenje ustrezne podpore bolnikom in njihovim svojcem za lažje soočanje z neozdravljivo boleznijo in pomoč pri načrtovanju nadaljnje oskrbe. \nDodatne informacije: Tamara Zemlič Radović\, 02/ 25 25 570\, maribor@hospic.si
URL:https://www.pogreb-ni-tabu.si/dogodek/socutno-mesto-20/
LOCATION:UKC Maribor\, Oddelek za onkologijo\, Ljubljanska ulica 5\, Maribor
ATTACH;FMTTYPE=image/jpeg:https://www.pogreb-ni-tabu.si/wp-content/uploads/2018/11/9902-e1542024472589.jpg
ORGANIZER;CN="DRU%C5%A0TVO HOSPIC":MAILTO:info@hospic.si
END:VEVENT
BEGIN:VEVENT
DTSTART;TZID=Europe/Helsinki:20190214T150000
DTEND;TZID=Europe/Helsinki:20190214T160000
DTSTAMP:20260425T210256
CREATED:20190211T123249Z
LAST-MODIFIED:20190211T123249Z
UID:7681-1550156400-1550160000@www.pogreb-ni-tabu.si
SUMMARY:Svetovalnica
DESCRIPTION:Nudenje ustrezne podpore bolnikom in njihovim svojcem za lažje soočanje z neozdravljivo boleznijo in pomoč pri načrtovanju nadaljnje oskrbe. \nInformacije: Območni odbor Celje\, 03/754 86 011\, celje@hospic.si
URL:https://www.pogreb-ni-tabu.si/dogodek/svetovalnica-9/
LOCATION:Splošna Bolnišnica Celje\, Oblakova ulica 5\, Celje
ATTACH;FMTTYPE=image/jpeg:https://www.pogreb-ni-tabu.si/wp-content/uploads/2018/11/O6R96S0-e1542025915269.jpg
ORGANIZER;CN="DRU%C5%A0TVO HOSPIC":MAILTO:info@hospic.si
END:VEVENT
BEGIN:VEVENT
DTSTART;TZID=Europe/Helsinki:20190213T180000
DTEND;TZID=Europe/Helsinki:20190213T200000
DTSTAMP:20260425T210256
CREATED:20190211T123101Z
LAST-MODIFIED:20190211T123108Z
UID:7679-1550080800-1550088000@www.pogreb-ni-tabu.si
SUMMARY:Hospickafe: Pravica do dostojne smrti
DESCRIPTION:Naš gost bo dr. Andrej Pleterski\, etnolog\, zgodovinar\, arheolog in raziskovalec z Inštituta za arheologijo ZRC SAZU in predavatelj s Filozofske fakultete v Ljubljani. Z nami bo podelil osebno izkušnjo ob umiranju očeta in njegovo razmišljanje pred smrtjo. Dogodek bo povezovala gospa Simona Šolinič. \nPredhodne najave in dodatne informacije: Martina Košar\, 051/ 418 446\, celje@hospic.si
URL:https://www.pogreb-ni-tabu.si/dogodek/hospickafe-pravica-do-dostojne-smrti/
LOCATION:Kocenova ulica 4\, Kocenova ulica 4\, Celje
ATTACH;FMTTYPE=image/jpeg:https://www.pogreb-ni-tabu.si/wp-content/uploads/2018/10/2745-e1539628790847.jpg
ORGANIZER;CN="DRU%C5%A0TVO HOSPIC":MAILTO:info@hospic.si
END:VEVENT
BEGIN:VEVENT
DTSTART;TZID=Europe/Helsinki:20190213T130000
DTEND;TZID=Europe/Helsinki:20190213T150000
DTSTAMP:20260425T210256
CREATED:20190211T120318Z
LAST-MODIFIED:20190211T120318Z
UID:7652-1550062800-1550070000@www.pogreb-ni-tabu.si
SUMMARY:Info točka
DESCRIPTION:Širimo informacije o delovanju Slovenskega društva hospic\, pomagamo konkretnim ljudem\, ki imajo umirajoče\, govorimo s hudo bolnimi\, ki so tam in pridejo po toplo besedo\, ker jih je strah. \nDodatne in formacije: Tatjana Sedlar\, 041 365 783\, oskrba.lj@hospic.si
URL:https://www.pogreb-ni-tabu.si/dogodek/info-tocka-8/
LOCATION:Onkološki inštitut\, Zaloška cesta 2\, Ljubljana
ATTACH;FMTTYPE=image/png:https://www.pogreb-ni-tabu.si/wp-content/uploads/2018/10/written-conversation-speech-bubble-with-letter-i-inside-of-information-for-interface-1.png
ORGANIZER;CN="DRU%C5%A0TVO HOSPIC":MAILTO:info@hospic.si
END:VEVENT
BEGIN:VEVENT
DTSTART;TZID=Europe/Helsinki:20190212T170000
DTEND;TZID=Europe/Helsinki:20190212T180000
DTSTAMP:20260425T210256
CREATED:20190211T124517Z
LAST-MODIFIED:20190211T124517Z
UID:7695-1549990800-1549994400@www.pogreb-ni-tabu.si
SUMMARY:Odprta skupina za žalujoče
DESCRIPTION:Brezplačna pogovorna skupina namenjena vsem žalujočim\, ne glede na pretečeni čas po izgubi bližnjega. Vodi Maja Žagar. \nInformacije in prijave: Maja Žagar: 051 454 845\, dolenska@hospic.si
URL:https://www.pogreb-ni-tabu.si/dogodek/odprta-skupina-za-zalujoce-5/
LOCATION:Območni odbor Dolenjska\, Rozmanova 10\, Novo mesto\, Slovenija
ATTACH;FMTTYPE=image/jpeg:https://www.pogreb-ni-tabu.si/wp-content/uploads/2017/01/relax-1276639_1920-e1542025291917.jpg
ORGANIZER;CN="DRU%C5%A0TVO HOSPIC":MAILTO:info@hospic.si
END:VEVENT
BEGIN:VEVENT
DTSTART;TZID=Europe/Helsinki:20190212T160000
DTEND;TZID=Europe/Helsinki:20190212T170000
DTSTAMP:20260425T210256
CREATED:20190211T125051Z
LAST-MODIFIED:20190211T125051Z
UID:7702-1549987200-1549990800@www.pogreb-ni-tabu.si
SUMMARY:Kreativna delavnica za žalujoče otroke in mladostnike
DESCRIPTION:Predhodne najave in dodatne informacije: Albin Polak\, 02/53 02 090\, murskasobota@hospic.si
URL:https://www.pogreb-ni-tabu.si/dogodek/kreativna-delavnica-za-zalujoce-otroke-in-mladostnike-2/
LOCATION:Lendavska ulica 11\, Lendavska ulica 11\, Murska Sobota
ATTACH;FMTTYPE=image/jpeg:https://www.pogreb-ni-tabu.si/wp-content/uploads/2018/11/20790-e1541533979276.jpg
ORGANIZER;CN="DRU%C5%A0TVO HOSPIC":MAILTO:info@hospic.si
END:VEVENT
BEGIN:VEVENT
DTSTART;TZID=Europe/Helsinki:20190212T133000
DTEND;TZID=Europe/Helsinki:20190212T153000
DTSTAMP:20260425T210256
CREATED:20190211T121818Z
LAST-MODIFIED:20190211T121818Z
UID:7662-1549978200-1549985400@www.pogreb-ni-tabu.si
SUMMARY:Sočutno mesto
DESCRIPTION:Svetovanje in nudenje ustrezne podpore bolnikom in njihovim svojcem za lažje soočanje z neozdravljivo boleznijo in pomoč pri načrtovanju nadaljnje oskrbe. \nDodatne informacije: Tamara Zemlič Radović\, 02/ 25 25 570\, maribor@hospic.si
URL:https://www.pogreb-ni-tabu.si/dogodek/socutno-mesto-17/
LOCATION:UKC Maribor\, Oddelek za onkologijo\, Ljubljanska ulica 5\, Maribor
ATTACH;FMTTYPE=image/jpeg:https://www.pogreb-ni-tabu.si/wp-content/uploads/2018/11/9902-e1542024472589.jpg
ORGANIZER;CN="DRU%C5%A0TVO HOSPIC":MAILTO:info@hospic.si
END:VEVENT
BEGIN:VEVENT
DTSTART;TZID=Europe/Helsinki:20190212T080000
DTEND;TZID=Europe/Helsinki:20190212T170000
DTSTAMP:20260425T210256
CREATED:20190211T132504Z
LAST-MODIFIED:20190211T132504Z
UID:7709-1549958400-1549990800@www.pogreb-ni-tabu.si
SUMMARY:Odprta skupina za žalujoče
DESCRIPTION:Brezplačna pogovorna skupina namenjena vsem žalujočim\, ne glede na pretečeni čas po izgubi bližnjega. \nPredhodne najave in dodatne informacije: Marjetica Stojanović Verdinek\, 051/441 638. koroska@hospic.si
URL:https://www.pogreb-ni-tabu.si/dogodek/odprta-skupina-za-zalujoce-6/
LOCATION:Glavni trg 9\, Glavni trg 9\, Slovenj Gradec
ATTACH;FMTTYPE=image/jpeg:https://www.pogreb-ni-tabu.si/wp-content/uploads/2017/01/relax-1276639_1920-e1542025291917.jpg
ORGANIZER;CN="DRU%C5%A0TVO HOSPIC":MAILTO:info@hospic.si
END:VEVENT
BEGIN:VEVENT
DTSTART;TZID=Europe/Helsinki:20190131T150000
DTEND;TZID=Europe/Helsinki:20190131T170000
DTSTAMP:20260425T210256
CREATED:20190114T141531Z
LAST-MODIFIED:20190114T141531Z
UID:7620-1548946800-1548954000@www.pogreb-ni-tabu.si
SUMMARY:Sočutno mesto
DESCRIPTION:Svetovanje in nudenje ustrezne podpore bolnikom in njihovim svojcem za lažje soočanje z neozdravljivo boleznijo in pomoč pri načrtovanju nadaljnje oskrbe. \nDodatne informacije: Tamara Zemlič Radović\, 02/ 25 25 570\, maribor@hospic.si
URL:https://www.pogreb-ni-tabu.si/dogodek/socutno-mesto-16/
LOCATION:UKC Maribor\, Oddelek za onkologijo\, Ljubljanska ulica 5\, Maribor
ATTACH;FMTTYPE=image/jpeg:https://www.pogreb-ni-tabu.si/wp-content/uploads/2018/11/9902-e1542024472589.jpg
ORGANIZER;CN="DRU%C5%A0TVO HOSPIC":MAILTO:info@hospic.si
END:VEVENT
BEGIN:VEVENT
DTSTART;TZID=Europe/Helsinki:20190131T150000
DTEND;TZID=Europe/Helsinki:20190131T160000
DTSTAMP:20260425T210256
CREATED:20190114T142921Z
LAST-MODIFIED:20190114T142921Z
UID:7632-1548946800-1548950400@www.pogreb-ni-tabu.si
SUMMARY:Svetovalnica
DESCRIPTION:Nudenje ustrezne podpore bolnikom in njihovim svojcem za lažje soočanje z neozdravljivo boleznijo in pomoč pri načrtovanju nadaljnje oskrbe. \nInformacije: Območni odbor Celje\, 03/754 86 011\, celje@hospic.si
URL:https://www.pogreb-ni-tabu.si/dogodek/svetovalnica-8/
LOCATION:Splošna Bolnišnica Celje\, Oblakova ulica 5\, Celje
ATTACH;FMTTYPE=image/jpeg:https://www.pogreb-ni-tabu.si/wp-content/uploads/2018/11/O6R96S0-e1542025915269.jpg
ORGANIZER;CN="DRU%C5%A0TVO HOSPIC":MAILTO:info@hospic.si
END:VEVENT
BEGIN:VEVENT
DTSTART;TZID=Europe/Helsinki:20190130T170000
DTEND;TZID=Europe/Helsinki:20190130T190000
DTSTAMP:20260425T210256
CREATED:20190114T144209Z
LAST-MODIFIED:20190114T144209Z
UID:7642-1548867600-1548874800@www.pogreb-ni-tabu.si
SUMMARY:Večer Hospica: Življenjske vrednote pri Inuitih v severovzhodni Arktiki
DESCRIPTION:Večer Hospica z naslovom Življenjske vrednote pri Inuitih v severovzhodni Arktiki. Gostja: Dorica Sever\, misijonarka pri INUITIH ( Eskimih ). \nDodatne informacije: Albin Polak\, 02/53 02 090\, murskasobota@hospic.si
URL:https://www.pogreb-ni-tabu.si/dogodek/vecer-hospica-zivljenjske-vrednote-pri-inuitih-v-severovzhodni-arktiki/
LOCATION:Pokrajinska študijska knjižnica Murska Sobota\, Zvezna ulica 10\, Murska Sobota
ATTACH;FMTTYPE=image/jpeg:https://www.pogreb-ni-tabu.si/wp-content/uploads/2019/01/606-e1547476916878.jpg
ORGANIZER;CN="DRU%C5%A0TVO HOSPIC":MAILTO:info@hospic.si
END:VEVENT
BEGIN:VEVENT
DTSTART;TZID=Europe/Helsinki:20190130T130000
DTEND;TZID=Europe/Helsinki:20190130T150000
DTSTAMP:20260425T210256
CREATED:20190114T140636Z
LAST-MODIFIED:20190114T140636Z
UID:7608-1548853200-1548860400@www.pogreb-ni-tabu.si
SUMMARY:Info točka
DESCRIPTION:Širimo informacije o delovanju Slovenskega društva hospic\, pomagamo konkretnim ljudem\, ki imajo umirajoče\, govorimo s hudo bolnimi\, ki so tam in pridejo po toplo besedo\, ker jih je strah. \nDodatne in formacije: Tatjana Sedlar\, 041 365 783\, oskrba.lj@hospic.si
URL:https://www.pogreb-ni-tabu.si/dogodek/info-tocka-7/
LOCATION:Onkološki inštitut\, Zaloška cesta 2\, Ljubljana
ATTACH;FMTTYPE=image/png:https://www.pogreb-ni-tabu.si/wp-content/uploads/2018/10/written-conversation-speech-bubble-with-letter-i-inside-of-information-for-interface-1.png
ORGANIZER;CN="DRU%C5%A0TVO HOSPIC":MAILTO:info@hospic.si
END:VEVENT
BEGIN:VEVENT
DTSTART;TZID=Europe/Helsinki:20190129T170000
DTEND;TZID=Europe/Helsinki:20190129T183000
DTSTAMP:20260425T210257
CREATED:20190114T143648Z
LAST-MODIFIED:20190114T143648Z
UID:7640-1548781200-1548786600@www.pogreb-ni-tabu.si
SUMMARY:Odprta skupina za žalujoče odrasle v Radovljici
DESCRIPTION:Brezplačna pogovorna skupina namenjena vsem žalujočim\, ne glede na pretečeni čas po izgubi bližnjega. Vodi Ana Plejić in Jana Štular. \nPredhodne najave in dodatne informacije: 031/614 925\, gorenjska@hospic.si
URL:https://www.pogreb-ni-tabu.si/dogodek/odprta-skupina-za-zalujoce-odrasle-v-radovljici/
LOCATION:Območni odbor Gorenjska\, Gorenjska cesta 25\, Radovljica\, Slovenija
ATTACH;FMTTYPE=image/jpeg:https://www.pogreb-ni-tabu.si/wp-content/uploads/2017/01/relax-1276639_1920-e1542025291917.jpg
ORGANIZER;CN="DRU%C5%A0TVO HOSPIC":MAILTO:info@hospic.si
END:VEVENT
BEGIN:VEVENT
DTSTART;TZID=Europe/Helsinki:20190129T170000
DTEND;TZID=Europe/Helsinki:20190129T183000
DTSTAMP:20260425T210257
CREATED:20190114T143120Z
LAST-MODIFIED:20190114T143120Z
UID:7634-1548781200-1548786600@www.pogreb-ni-tabu.si
SUMMARY:Levjesrčna druženja
DESCRIPTION:Brezplačna srečanja z različnimi oblikami druženja namenjena žalujočim otrokom in mladostnikom. \nPredhodne najave in dodatne informacije: Martina Košar\, 051/ 418 446\, zalovanje.odraslih@hospic.si
URL:https://www.pogreb-ni-tabu.si/dogodek/levjesrcna-druzenja-6/
LOCATION:Kocenova ulica 4\, Kocenova ulica 4\, Celje
ATTACH;FMTTYPE=image/png:https://www.pogreb-ni-tabu.si/wp-content/uploads/2018/11/Tabor-Levjesrcnih.png
ORGANIZER;CN="DRU%C5%A0TVO HOSPIC":MAILTO:info@hospic.si
END:VEVENT
BEGIN:VEVENT
DTSTART;TZID=Europe/Helsinki:20190129T170000
DTEND;TZID=Europe/Helsinki:20190129T183000
DTSTAMP:20260425T210257
CREATED:20190114T142121Z
LAST-MODIFIED:20190114T142121Z
UID:7624-1548781200-1548786600@www.pogreb-ni-tabu.si
SUMMARY:Levjesrčno druženje za otroke
DESCRIPTION:Brezplačna srečanja z različnimi oblikami druženja namenjena žalujočim otrokom in mladostnikom. \nPredhodna najava in dodatne informacije: Tamara Zemlič Radović\, 02/ 25 25 570\, maribor@hospic.si
URL:https://www.pogreb-ni-tabu.si/dogodek/levjesrcno-druzenje-za-otroke-2/
LOCATION:Partizanska cesta 12/II\, Partizanska cesta 12/II\, Maribor
ATTACH;FMTTYPE=image/png:https://www.pogreb-ni-tabu.si/wp-content/uploads/2018/11/Tabor-Levjesrcnih.png
ORGANIZER;CN="DRU%C5%A0TVO HOSPIC":MAILTO:info@hospic.si
END:VEVENT
END:VCALENDAR